BEGIN:VCALENDAR
VERSION:2.0
PRODID:-//jEvents 2.0 for Joomla//EN
CALSCALE:GREGORIAN
METHOD:PUBLISH
BEGIN:VEVENT
UID:d6ed025ef32757c24e3e58e8b60bb145
CATEGORIES:Veranstaltungen
CREATED:20250227T143503
SUMMARY:Einladung zum Infoabend BGJ Schreiner/Zimmerer
DESCRIPTION: \nHerzliche Einladung zum Infoabend BGJ Schreiner/Zimmerer.\nNähere Inform
 ationen finden Sie hier. (images/abteilungen/bau-holz/Spe_EinladungInfovera
 nstaltung2024_25.pdf)\n
X-ALT-DESC;FMTTYPE=text/html:<p>&nbsp;</p><p>Herzliche Einladung zum Infoabend BGJ Schreiner/Zimmerer.</
 p><p>Nähere Informationen finden Sie <a href="https://www.bs-dkb.de/images/
 abteilungen/bau-holz/Spe_EinladungInfoveranstaltung2024_25.pdf">hier.</a></
 p>
DTSTAMP:20260420T134302
DTSTART:20250320T160000
SEQUENCE:0
TRANSP:OPAQUE
END:VEVENT
END:VCALENDAR