BEGIN:VCALENDAR
VERSION:2.0
PRODID:-//jEvents 2.0 for Joomla//EN
CALSCALE:GREGORIAN
METHOD:PUBLISH
BEGIN:VEVENT
UID:c910648f5fed89083c639420cd5dcb37
CATEGORIES:Veranstaltungen
CREATED:20250227T143921
SUMMARY:Einladung zum Infoabend BGJ Schreiner/Zimmerer
DESCRIPTION: \nHerzliche Einladung zum Infoabend BGJ Schreiner/Zimmerer.\nNähere Inform
 ationen finden Sie hier. (images/abteilungen/bau-holz/Spe_EinladungInfovera
 nstaltung2024_25.pdf)\n
X-ALT-DESC;FMTTYPE=text/html:<p>&nbsp;</p><p>Herzliche Einladung zum Infoabend BGJ Schreiner/Zimmerer.</
 p><p>Nähere Informationen finden Sie <a href="https://www.bs-dkb.de/images/
 abteilungen/bau-holz/Spe_EinladungInfoveranstaltung2024_25.pdf">hier.</a></
 p>
DTSTAMP:20260420T092854
DTSTART:20250710T150000
SEQUENCE:0
TRANSP:OPAQUE
END:VEVENT
END:VCALENDAR