BEGIN:VCALENDAR
VERSION:2.0
PRODID:-//jEvents 2.0 for Joomla//EN
CALSCALE:GREGORIAN
METHOD:PUBLISH
BEGIN:VEVENT
UID:a2e34a4b08174af05e7d7051974246a5
CATEGORIES:Veranstaltungen
CREATED:20231113T135830
SUMMARY:Einladung Infoveranstaltung BGJ Schreiner und Zimmerer
DESCRIPTION:<p>Einladung zur Infoveranstaltung BGJ Schreiner und Zimmerer</p><p>Nähere 
 Informationen finden Sie <a href="images/abteilungen/bau-holz/EinladungInfo
 veranstaltungHolz2023_24.pdf">hier.</a></p><p>Zur besseren Planung bitten w
 ir um eine Anmeldung im Sekretariat.</p><p>&nbsp;</p>
X-ALT-DESC;FMTTYPE=text/html:<p>Einladung zur Infoveranstaltung BGJ Schreiner und Zimmerer</p><p>Nähere 
 Informationen finden Sie <a href="https://www.bs-dkb.de/images/abteilungen/
 bau-holz/EinladungInfoveranstaltungHolz2023_24.pdf">hier.</a></p><p>Zur bes
 seren Planung bitten wir um eine Anmeldung im Sekretariat.</p><p>&nbsp;</p>
DTSTAMP:20260420T113409
DTSTART:20231207T160000
DTEND:20231207T170000
SEQUENCE:0
TRANSP:OPAQUE
END:VEVENT
END:VCALENDAR