BEGIN:VCALENDAR
VERSION:2.0
PRODID:-//jEvents 2.0 for Joomla//EN
CALSCALE:GREGORIAN
METHOD:PUBLISH
BEGIN:VEVENT
UID:6af7b42c2272d3b9b1cbc0d0af295d5e
CATEGORIES:Veranstaltungen
CREATED:20231113T140132
SUMMARY:Einladung Infoveranstaltung BGJ Schreiner und Zimmerer
DESCRIPTION:<p>Einladung Infoveranstaltung BGJ Schreiner und Zimmerer</p><p>Nähere Info
 rmationen finden Sie <a href="images/abteilungen/bau-holz/EinladungInfovera
 nstaltungHolz2023_24.pdf">hier.</a></p><p>Zur besseren Planung bitten wir u
 m eine Anmeldung im Sekretariat.</p><p>&nbsp;</p><p>&nbsp;</p>
X-ALT-DESC;FMTTYPE=text/html:<p>Einladung Infoveranstaltung BGJ Schreiner und Zimmerer</p><p>Nähere Info
 rmationen finden Sie <a href="https://www.bs-dkb.de/images/abteilungen/bau-
 holz/EinladungInfoveranstaltungHolz2023_24.pdf">hier.</a></p><p>Zur bessere
 n Planung bitten wir um eine Anmeldung im Sekretariat.</p><p>&nbsp;</p><p>&
 nbsp;</p>
DTSTAMP:20260420T160909
DTSTART:20240208T160000
DTEND:20240208T170000
SEQUENCE:0
TRANSP:OPAQUE
END:VEVENT
END:VCALENDAR