BEGIN:VCALENDAR
VERSION:2.0
PRODID:-//jEvents 2.0 for Joomla//EN
CALSCALE:GREGORIAN
METHOD:PUBLISH
BEGIN:VEVENT
UID:637765354f793e6e6310f9e8a6cd86a9
CATEGORIES:Ferien
CREATED:20231113T141632
SUMMARY:Weihnachtsferien
DESCRIPTION: \n \n
X-ALT-DESC;FMTTYPE=text/html:<p>&nbsp;</p><p>&nbsp;</p>
DTSTAMP:20260420T130144
DTSTART:20231225T070000
DTEND:20240105T160000
SEQUENCE:0
TRANSP:OPAQUE
END:VEVENT
END:VCALENDAR