BEGIN:VCALENDAR
VERSION:2.0
PRODID:-//jEvents 2.0 for Joomla//EN
CALSCALE:GREGORIAN
METHOD:PUBLISH
BEGIN:VEVENT
UID:055fd314a0dc15ae7b907a27867cfcb0
CATEGORIES:Ferien
CREATED:20231221T132456
SUMMARY:Sekretariat geschlossen
DESCRIPTION:<p>Sekretariat Dinkelsbühl:&nbsp; 27.12.2023 - 05.01.2024: geschlossen</p><
 p>Sekretariat Rothenburg:&nbsp;&nbsp; 27.12.2023 - 02.01.2024: geschlossen<
 /p><p>&nbsp;&nbsp;&nbsp;&nbsp;&nbsp;&nbsp;&nbsp;&nbsp;&nbsp;&nbsp;&nbsp;&nb
 sp;&nbsp;&nbsp;&nbsp;&nbsp;&nbsp;&nbsp;&nbsp;&nbsp;&nbsp;&nbsp;&nbsp;&nbsp;
 &nbsp;&nbsp;&nbsp;&nbsp;&nbsp;&nbsp;&nbsp;&nbsp;&nbsp;&nbsp;&nbsp;&nbsp;&nb
 sp;&nbsp;&nbsp;&nbsp;&nbsp;&nbsp;&nbsp;&nbsp;&nbsp;&nbsp; 03.01.2024 - 05.0
 1.2024: geöffnet von 7:30 Uhr bis 12:00 Uhr</p>
DTSTAMP:20260420T143126
DTSTART:20231227T070000
DTEND:20240105T160000
SEQUENCE:0
TRANSP:OPAQUE
END:VEVENT
END:VCALENDAR