BEGIN:VCALENDAR
VERSION:2.0
PRODID:-//jEvents 2.0 for Joomla//EN
CALSCALE:GREGORIAN
METHOD:PUBLISH
BEGIN:VEVENT
UID:6e347da154f0fb9e215cb2cc23b2bea0
CATEGORIES:Veranstaltungen
CREATED:20240205T151502
SUMMARY:Einladung zum Ausbildertreffen 2024
DESCRIPTION:<p>&nbsp;</p><p><strong><em><span style="color: #0000ff;">Herzliche Einladu
 ng zum Ausbildertreffen 2024:</span></em></strong></p><p>Kunststoff- und Ka
 utschuktechnologe/Kunststoff und Kautschuktechnologin</p><p>Verfahrensmecha
 niker für Kunststoff- und Kautschuktechnik</p><p>Maschinen- und Anlagenführ
 er - Metall- und Kunststofftechnik&nbsp;</p><p>Nähere Informationen finden 
 Sie <a href="images/abteilungen/kunststofftechnik/Einladung_zum_Ausbildertr
 effen_2024.pdf">hier.</a></p>
X-ALT-DESC;FMTTYPE=text/html:<p>&nbsp;</p><p><strong><em><span style="color: #0000ff;">Herzliche Einladu
 ng zum Ausbildertreffen 2024:</span></em></strong></p><p>Kunststoff- und Ka
 utschuktechnologe/Kunststoff und Kautschuktechnologin</p><p>Verfahrensmecha
 niker für Kunststoff- und Kautschuktechnik</p><p>Maschinen- und Anlagenführ
 er - Metall- und Kunststofftechnik&nbsp;</p><p>Nähere Informationen finden 
 Sie <a href="https://www.bs-dkb.de/images/abteilungen/kunststofftechnik/Ein
 ladung_zum_Ausbildertreffen_2024.pdf">hier.</a></p>
DTSTAMP:20260420T174824
DTSTART:20240320T120000
DTEND:20240320T160000
SEQUENCE:0
TRANSP:OPAQUE
END:VEVENT
END:VCALENDAR