BEGIN:VCALENDAR
VERSION:2.0
PRODID:-//jEvents 2.0 for Joomla//EN
CALSCALE:GREGORIAN
METHOD:PUBLISH
BEGIN:VEVENT
UID:cb4932d24b755f8d7cc6038d5315175b
CATEGORIES:Ferien
CREATED:20240318T154239
SUMMARY:Osterferien
DESCRIPTION:<p>&nbsp;</p><p>An der Berufsschule in Dinkelsbühl ist das Sekretariat in d
 er Zeit vom 25.03. -05.04 nicht besetzt.</p><p>Gerne können Sie uns per Mai
 l eine Nachricht an folgende Adresse zukommen lassen: <span id="cloak138b4f
 a047c8c0a1d968f80859797341">Diese E-Mail-Adresse ist vor Spambots geschützt
 ! Zur Anzeige muss JavaScript eingeschaltet sein!</span><script type='text/
 javascript'>
				document.getElementById('cloak138b4fa047c8c0a1d968f8085979
 7341').innerHTML = '';
				var prefix = '&#109;a' + 'i&#108;' + '&#116;o';

 				var path = 'hr' + 'ef' + '=';
				var addy138b4fa047c8c0a1d968f80859797
 341 = 'v&#101;rw&#97;lt&#117;ng' + '&#64;';
				addy138b4fa047c8c0a1d968f80
 859797341 = addy138b4fa047c8c0a1d968f80859797341 + 'bs-dkb' + '&#46;' + 'd&
 #101;';
				var addy_text138b4fa047c8c0a1d968f80859797341 = 'v&#101;rw&#97;
 lt&#117;ng' + '&#64;' + 'bs-dkb' + '&#46;' + 'd&#101;';document.getElementB
 yId('cloak138b4fa047c8c0a1d968f80859797341').innerHTML += '<a ' + path + '\
 '' + prefix + ':' + addy138b4fa047c8c0a1d968f80859797341 + '\'>'+addy_text1
 38b4fa047c8c0a1d968f80859797341+'<\/a>';
		</script>,</p><p>die wir ab 08.0
 4.2024 zeitnah beantworten werden .&nbsp;</p>
DTSTAMP:20260424T094431
DTSTART:20240325T070000
DTEND:20240405T150000
SEQUENCE:0
TRANSP:OPAQUE
END:VEVENT
END:VCALENDAR